BEGIN:VCALENDAR
VERSION:2.0
PRODID:-//stbenedictchurchny.org//eCatholic//EN
X-WR-TIMEZONE:LocalTZ
BEGIN:VTIMEZONE
TZID:LocalTZ
X-LIC-LOCATION:LocalTZ
BEGIN:DAYLIGHT
TZOFFSETFROM:-0500
TZOFFSETTO:-0400
TZNAME:LocalTZ
DTSTART:19700308T020000
RRULE:FREQ=YEARLY;BYMONTH=3;BYDAY=2SU
END:DAYLIGHT
BEGIN:STANDARD
TZOFFSETFROM:-0400
TZOFFSETTO:-0500
TZNAME:LocalTZ
DTSTART:19701101T020000
RRULE:FREQ=YEARLY;BYMONTH=11;BYDAY=1SU
END:STANDARD
END:VTIMEZONE
BEGIN:VEVENT
UID:2038395@stbenedictchurchny.org
DTSTAMP:20260424T073834Z
DTSTART:20260427T083000
DTEND:20260427T093000
RRULE:FREQ=WEEKLY;BYDAY=MO
SUMMARY:Miraculous Medal Novena
DESCRIPTION:Miraculous Medal Novena: Every Monday after the 8:30 am Mass
END:VEVENT
BEGIN:VEVENT
UID:2038397@stbenedictchurchny.org
DTSTAMP:20260424T073834Z
DTSTART;VALUE=DATE:20260428
DTEND;VALUE=DATE:20260429
RRULE:FREQ=WEEKLY;BYDAY=TU
SUMMARY:St.Anthony Prayers
DESCRIPTION:St. Anthony Prayers: Every Tuesday after each Mass there will 
 be devotional prayers to St. Anthony
END:VEVENT
BEGIN:VEVENT
UID:2063537@stbenedictchurchny.org
DTSTAMP:20260424T073834Z
DTSTART:20260501T200000
DTEND:20260501T210000
RRULE:FREQ=MONTHLY;BYDAY=FR;BYSETPOS=1
EXDATE:20230303T200000
SUMMARY:Overnight Eucharistic Adoration 8pm Friday - 8am Saturday
END:VEVENT
END:VCALENDAR
